BEGIN:VCALENDAR
VERSION:2.0
PRODID:-//www.thearcsf.org//NONSGML kigkonsult.se iCalcreator 2.30.10//
CALSCALE:GREGORIAN
METHOD:PUBLISH
UID:297c00f2-c46a-44cd-b0bf-4a4006dea5e7
X-WR-CALDESC:We Gotta Dance! Enjoy DJ’d music by clients of The Arc. Dance\
 , Snacks\, Fun!\n6-8:00pm Admission: $1.00\n\nPlease note: The Arc SF is a
  scent-free workplace. Thank you for not wearing any of the following duri
 ng your visit: cologne\, aftershave lotion\, perfume\, perfumed hand lotio
 n\, fragranced hair products\, and/or similar products. Our chemically-sen
 sitive co-workers and participants thank you.\n\n
X-WR-RELCALID:9753b499e5fa567b476ebdc51ae2508b
X-WR-TIMEZONE:America/Los_Angeles
BEGIN:VTIMEZONE
TZID:America/Los_Angeles
BEGIN:STANDARD
TZNAME:PST
DTSTART:20191103T020000
TZOFFSETFROM:-0700
TZOFFSETTO:-0800
RDATE:20201101T020000
END:STANDARD
BEGIN:DAYLIGHT
TZNAME:PDT
DTSTART:20200308T020000
TZOFFSETFROM:-0800
TZOFFSETTO:-0700
RDATE:20210314T020000
END:DAYLIGHT
END:VTIMEZONE
BEGIN:VEVENT
UID:af3b8377-da14-4fcb-a424-a33ca82a7ebf
DTSTAMP:20260422T094710Z
DESCRIPTION:We Gotta Dance! Enjoy DJ’d music by clients of The Arc. Dance\,
  Snacks\, Fun!\n6-8:00pm Admission: $1.00\n\nPlease note: The Arc SF is a 
 scent-free workplace. Thank you for not wearing any of the following durin
 g your visit: cologne\, aftershave lotion\, perfume\, perfumed hand lotion
 \, fragranced hair products\, and/or similar products. Our chemically-sens
 itive co-workers and participants thank you.\n\n
DTSTART;TZID=America/Los_Angeles:20200320T180000
DTEND;TZID=America/Los_Angeles:20200320T200000
LOCATION:The Arc San Francisco
SUMMARY:We Gotta Dance!
END:VEVENT
END:VCALENDAR
