BEGIN:VCALENDAR
VERSION:2.0
PRODID:-//www.thearcsf.org//NONSGML kigkonsult.se iCalcreator 2.30.10//
CALSCALE:GREGORIAN
METHOD:PUBLISH
UID:21264085-9a5b-45ab-aaef-5a5cf3a655c7
X-WR-CALDESC:The Arc San Francisco will be closed at all locations in obser
 vance of Memorial Day. The Arc San Francisco will reopen on June 1st.
X-WR-RELCALID:81a79dac829bcf63634644ff90676f5f
X-WR-TIMEZONE:America/Los_Angeles
BEGIN:VTIMEZONE
TZID:America/Los_Angeles
BEGIN:STANDARD
TZNAME:PST
DTSTART:20201101T020000
TZOFFSETFROM:-0700
TZOFFSETTO:-0800
RDATE:20211107T020000
RDATE:20221106T020000
END:STANDARD
BEGIN:DAYLIGHT
TZNAME:PDT
DTSTART:20210314T020000
TZOFFSETFROM:-0800
TZOFFSETTO:-0700
RDATE:20220313T020000
END:DAYLIGHT
END:VTIMEZONE
BEGIN:VEVENT
UID:0420a9e4-02d3-4014-9721-e1ae15e1f0c9
DTSTAMP:20260422T151455Z
DESCRIPTION:The Arc San Francisco will be closed at all locations in observ
 ance of Memorial Day. The Arc San Francisco will reopen on June 1st.
DTSTART;TZID=America/Los_Angeles:20210531T000000
DTEND;TZID=America/Los_Angeles:20210531T235900
LOCATION:1500 Howard Street
SUMMARY:Arc Holiday Closure
END:VEVENT
END:VCALENDAR
