BEGIN:VCALENDAR
VERSION:2.0
PRODID:-//www.thearcsf.org//NONSGML kigkonsult.se iCalcreator 2.30.10//
CALSCALE:GREGORIAN
METHOD:PUBLISH
UID:da25390c-ce8c-4b45-ae8e-ff71141c8921
X-WR-CALDESC:Join speakers Vernae  G and  Sharon  J as they discuss advocat
 ing for your health with special guest Dr. Clarissa Kripke in part 2 of th
 is four part series on Advocacy in Action!
X-WR-RELCALID:8fb113ea8376df2b690cea1652ea41c2
X-WR-TIMEZONE:America/Los_Angeles
BEGIN:VTIMEZONE
TZID:America/Los_Angeles
BEGIN:STANDARD
TZNAME:PST
DTSTART:20241103T020000
TZOFFSETFROM:-0700
TZOFFSETTO:-0800
RDATE:20251102T020000
END:STANDARD
BEGIN:DAYLIGHT
TZNAME:PDT
DTSTART:20240310T020000
TZOFFSETFROM:-0800
TZOFFSETTO:-0700
RDATE:20250309T020000
RDATE:20260308T020000
END:DAYLIGHT
END:VTIMEZONE
BEGIN:VEVENT
UID:49acd4d4-194d-498b-8df5-09aae9822c27
DTSTAMP:20260421T184908Z
DESCRIPTION:Join speakers Vernae  G and  Sharon  J as they discuss advocati
 ng for your health with special guest Dr. Clarissa Kripke in part 2 of thi
 s four part series on Advocacy in Action!
DTSTART;TZID=America/Los_Angeles:20250116T180000
DTEND;TZID=America/Los_Angeles:20250116T190000
LOCATION:https://us02web.zoom.us/j/81214562819
SUMMARY:Speaker Series Advocacy in Action - Pt 2 - Advocating For Your Heal
 th
END:VEVENT
END:VCALENDAR
