BEGIN:VCALENDAR
VERSION:2.0
PRODID:-//www.thearcsf.org//NONSGML kigkonsult.se iCalcreator 2.30.10//
CALSCALE:GREGORIAN
METHOD:PUBLISH
UID:3ae72080-c224-4fa6-9c2c-052bb10f8dac
X-WR-CALDESC:Please click the link below to join the webinar:\nhttps://us02
 web.zoom.us/j/83154335626
X-WR-RELCALID:1996d560cef3e024965caad9cfa022a1
X-WR-TIMEZONE:America/Los_Angeles
BEGIN:VTIMEZONE
TZID:America/Los_Angeles
BEGIN:STANDARD
TZNAME:PST
DTSTART:20241103T020000
TZOFFSETFROM:-0700
TZOFFSETTO:-0800
RDATE:20251102T020000
END:STANDARD
BEGIN:DAYLIGHT
TZNAME:PDT
DTSTART:20240310T020000
TZOFFSETFROM:-0800
TZOFFSETTO:-0700
RDATE:20250309T020000
RDATE:20260308T020000
END:DAYLIGHT
END:VTIMEZONE
BEGIN:VEVENT
UID:9a73f869-27a5-4ba3-ac15-4406c40b3789
DTSTAMP:20260421T173124Z
DESCRIPTION:Please click the link below to join the webinar:\nhttps://us02w
 eb.zoom.us/j/83154335626
DTSTART;TZID=America/Los_Angeles:20250211T173000
DTEND;TZID=America/Los_Angeles:20250211T193000
LOCATION:https://us02web.zoom.us/j/83154335626
SUMMARY:Board of Directors Meeting
END:VEVENT
END:VCALENDAR
