BEGIN:VCALENDAR
VERSION:2.0
PRODID:-//www.thearcsf.org//NONSGML kigkonsult.se iCalcreator 2.30.10//
CALSCALE:GREGORIAN
METHOD:PUBLISH
UID:be47849b-87e5-43ab-97d2-f0ff6e075984
X-WR-CALDESC:Care is essential—and so are our stories.\nJoin us for a free 
 in-person community dinner and an evening of conversation\, advocacy\, and
  action about the future of Medi-Cal (also known as Medicaid).\n\nThis eve
 nt is co-hosted by The Arc San Francisco and LEAP of California\, with LEA
 P joining us remotely to support virtual participants.\n\nWe’ll hear from 
 Sheraden Nicholau of the State Council on Developmental Disabilities about
  the current threats to funding and services that so many in our community
  depend on. After the presentation\, we’ll invite families to share their 
 own experiences in a supportive\, welcoming space.\n\nEvent Details:\nFree
  dinner provided\nIn-person event only\nOpen to all The Arc SF clients and
  their families\nReserve your spot today—we’d love to save you a plate!\n
 \nhttps://www.eventbrite.com/e/care-is-essential-a-night-of-food-facts-act
 ion-tickets-1359531056989?utm-campaign=social&utm-content=attendeeshare&ut
 m-medium=discovery&utm-term=listing&utm-source=cp&aff=ebdsshcopyurl
X-WR-RELCALID:e1fc60c20bc3ec882668e1f06b3ee780
X-WR-TIMEZONE:America/Los_Angeles
BEGIN:VTIMEZONE
TZID:America/Los_Angeles
BEGIN:STANDARD
TZNAME:PST
DTSTART:20241103T020000
TZOFFSETFROM:-0700
TZOFFSETTO:-0800
RDATE:20251102T020000
RDATE:20261101T020000
END:STANDARD
BEGIN:DAYLIGHT
TZNAME:PDT
DTSTART:20250309T020000
TZOFFSETFROM:-0800
TZOFFSETTO:-0700
RDATE:20260308T020000
END:DAYLIGHT
END:VTIMEZONE
BEGIN:VEVENT
UID:c9950cb1-0347-4dde-a345-4969dfe250f9
DTSTAMP:20260421T120813Z
DESCRIPTION:Care is essential—and so are our stories.\nJoin us for a free i
 n-person community dinner and an evening of conversation\, advocacy\, and 
 action about the future of Medi-Cal (also known as Medicaid).\n\nThis even
 t is co-hosted by The Arc San Francisco and LEAP of California\, with LEAP
  joining us remotely to support virtual participants.\n\nWe’ll hear from S
 heraden Nicholau of the State Council on Developmental Disabilities about 
 the current threats to funding and services that so many in our community 
 depend on. After the presentation\, we’ll invite families to share their o
 wn experiences in a supportive\, welcoming space.\n\nEvent Details:\nFree 
 dinner provided\nIn-person event only\nOpen to all The Arc SF clients and 
 their families\nReserve your spot today—we’d love to save you a plate!\n\n
 https://www.eventbrite.com/e/care-is-essential-a-night-of-food-facts-actio
 n-tickets-1359531056989?utm-campaign=social&utm-content=attendeeshare&utm-
 medium=discovery&utm-term=listing&utm-source=cp&aff=ebdsshcopyurl
DTSTART;TZID=America/Los_Angeles:20250609T170000
DTEND;TZID=America/Los_Angeles:20250609T193000
LOCATION:180 11th St. \, B\, San Francisco\, CA 94103 US
SUMMARY:Care Is Essential: A Night of Food\, Facts & Action
END:VEVENT
END:VCALENDAR
