BEGIN:VCALENDAR
VERSION:2.0
PRODID:-//www.thearcsf.org//NONSGML kigkonsult.se iCalcreator 2.30.10//
CALSCALE:GREGORIAN
METHOD:PUBLISH
UID:db536f4e-b43e-4766-8719-85bd31fc54d5
X-WR-CALDESC:Click the link below to join the webinar:\nhttps://us02web.zoo
 m.us/j/84835814312
X-WR-RELCALID:7bce89c167cd4e036b5cdcae99a20c40
X-WR-TIMEZONE:America/Los_Angeles
BEGIN:VTIMEZONE
TZID:America/Los_Angeles
BEGIN:STANDARD
TZNAME:PST
DTSTART:20241103T020000
TZOFFSETFROM:-0700
TZOFFSETTO:-0800
RDATE:20251102T020000
RDATE:20261101T020000
END:STANDARD
BEGIN:DAYLIGHT
TZNAME:PDT
DTSTART:20250309T020000
TZOFFSETFROM:-0800
TZOFFSETTO:-0700
RDATE:20260308T020000
END:DAYLIGHT
END:VTIMEZONE
BEGIN:VEVENT
UID:10643984-fcf3-4998-8e9a-f210e4435003
DTSTAMP:20260421T120742Z
DESCRIPTION:Click the link below to join the webinar:\nhttps://us02web.zoom
 .us/j/84835814312
DTSTART;TZID=America/Los_Angeles:20250617T173000
DTEND;TZID=America/Los_Angeles:20250617T193000
LOCATION:https://us02web.zoom.us/j/84835814312
SUMMARY:Board of Directors Meeting
END:VEVENT
END:VCALENDAR
