BEGIN:VCALENDAR
VERSION:2.0
PRODID:-//www.thearcsf.org//NONSGML kigkonsult.se iCalcreator 2.30.10//
CALSCALE:GREGORIAN
METHOD:PUBLISH
UID:3d8d2335-cbbe-4354-818d-d87bc9676d12
X-WR-CALDESC:Join speakers Vernae G and Sharon J as they discuss advocating
  for your community with special guest Ivanova Smith in part three of this
  four part series on Advocacy in Action!
X-WR-RELCALID:0017bcdb5262e4bde3ffc29d809ce242
X-WR-TIMEZONE:America/Los_Angeles
BEGIN:VTIMEZONE
TZID:America/Los_Angeles
BEGIN:STANDARD
TZNAME:PST
DTSTART:20241103T020000
TZOFFSETFROM:-0700
TZOFFSETTO:-0800
RDATE:20251102T020000
RDATE:20261101T020000
END:STANDARD
BEGIN:DAYLIGHT
TZNAME:PDT
DTSTART:20250309T020000
TZOFFSETFROM:-0800
TZOFFSETTO:-0700
RDATE:20260308T020000
END:DAYLIGHT
END:VTIMEZONE
BEGIN:VEVENT
UID:c4a1b064-fc92-4566-86c6-338add3d7cd8
DTSTAMP:20260421T101614Z
DESCRIPTION:Join speakers Vernae G and Sharon J as they discuss advocating 
 for your community with special guest Ivanova Smith in part three of this 
 four part series on Advocacy in Action!
DTSTART;TZID=America/Los_Angeles:20250724T030000
DTEND;TZID=America/Los_Angeles:20250724T030001
LOCATION:https://us02web.zoom.us/j/81214562819
SUMMARY:Speaker Series Advocacy in Action - Pt 3 - Advocating for your Comm
 unity
END:VEVENT
END:VCALENDAR
