BEGIN:VCALENDAR
VERSION:2.0
PRODID:-//www.thearcsf.org//NONSGML kigkonsult.se iCalcreator 2.30.10//
CALSCALE:GREGORIAN
METHOD:PUBLISH
UID:d0e402f6-0430-4cce-bd1e-d479e0d7c5ab
X-WR-CALDESC:
X-WR-RELCALID:8c6d91e9909c3e567cc11ad4b482e470
X-WR-TIMEZONE:America/Los_Angeles
BEGIN:VTIMEZONE
TZID:America/Los_Angeles
BEGIN:STANDARD
TZNAME:PST
DTSTART:20241103T020000
TZOFFSETFROM:-0700
TZOFFSETTO:-0800
RDATE:20251102T020000
RDATE:20261101T020000
END:STANDARD
BEGIN:DAYLIGHT
TZNAME:PDT
DTSTART:20250309T020000
TZOFFSETFROM:-0800
TZOFFSETTO:-0700
RDATE:20260308T020000
END:DAYLIGHT
END:VTIMEZONE
BEGIN:VEVENT
UID:d088ace7-6000-47a6-83dc-d75c404df7a3
DTSTAMP:20260421T084851Z
DESCRIPTION:
DTSTART;TZID=America/Los_Angeles:20250819T150000
DTEND;TZID=America/Los_Angeles:20250819T170000
LOCATION:https://us02web.zoom.us/j/81977668459#success
SUMMARY:FLM Online Game Afternoon
END:VEVENT
END:VCALENDAR
