BEGIN:VCALENDAR
VERSION:2.0
PRODID:-//www.thearcsf.org//NONSGML kigkonsult.se iCalcreator 2.30.10//
CALSCALE:GREGORIAN
METHOD:PUBLISH
UID:61749382-ef2c-429e-89b0-2938327f2017
X-WR-CALDESC:
X-WR-RELCALID:934f2344f6b0475ac9a6db7fb649b7a8
X-WR-TIMEZONE:America/Los_Angeles
BEGIN:VTIMEZONE
TZID:America/Los_Angeles
BEGIN:STANDARD
TZNAME:PST
DTSTART:20241103T020000
TZOFFSETFROM:-0700
TZOFFSETTO:-0800
RDATE:20251102T020000
RDATE:20261101T020000
END:STANDARD
BEGIN:DAYLIGHT
TZNAME:PDT
DTSTART:20250309T020000
TZOFFSETFROM:-0800
TZOFFSETTO:-0700
RDATE:20260308T020000
END:DAYLIGHT
END:VTIMEZONE
BEGIN:VEVENT
UID:57e4dc30-4670-4558-88ad-2702e2e1beaa
DTSTAMP:20260421T084654Z
DESCRIPTION:
DTSTART;TZID=America/Los_Angeles:20250821T170000
DTEND;TZID=America/Los_Angeles:20250821T183000
LOCATION:https://us02web.zoom.us/j/82713623459#success
SUMMARY:FLM Remote Bingo
END:VEVENT
END:VCALENDAR
