BEGIN:VCALENDAR
VERSION:2.0
PRODID:-//www.thearcsf.org//NONSGML kigkonsult.se iCalcreator 2.30.10//
CALSCALE:GREGORIAN
METHOD:PUBLISH
UID:fc2d82e5-684f-4ec8-bb5e-5a91a5c69b11
X-WR-CALDESC:Join Us in Friend's Hall for Cards\, Games and other Activitie
 s.\n
X-WR-RELCALID:a943d13a7b2f1a9a26e83f3e851e32f7
X-WR-TIMEZONE:America/Los_Angeles
BEGIN:VTIMEZONE
TZID:America/Los_Angeles
BEGIN:STANDARD
TZNAME:PST
DTSTART:20241103T020000
TZOFFSETFROM:-0700
TZOFFSETTO:-0800
RDATE:20251102T020000
RDATE:20261101T020000
END:STANDARD
BEGIN:DAYLIGHT
TZNAME:PDT
DTSTART:20250309T020000
TZOFFSETFROM:-0800
TZOFFSETTO:-0700
RDATE:20260308T020000
END:DAYLIGHT
END:VTIMEZONE
BEGIN:VEVENT
UID:fe5ddd1c-575f-4e8a-b093-9ec824dd3caa
DTSTAMP:20260421T085023Z
DESCRIPTION:Join Us in Friend's Hall for Cards\, Games and other Activities
 .\n
DTSTART;TZID=America/Los_Angeles:20250825T150000
DTEND;TZID=America/Los_Angeles:20250825T170000
LOCATION:180 11th Street\, B\, San Francisco\, CA 94103 US
SUMMARY:FLM Club
END:VEVENT
END:VCALENDAR
