BEGIN:VCALENDAR
VERSION:2.0
PRODID:-//www.thearcsf.org//NONSGML kigkonsult.se iCalcreator 2.30.10//
CALSCALE:GREGORIAN
METHOD:PUBLISH
UID:6f8df051-ca29-49b2-b794-ea00e09f3e56
X-WR-CALDESC:
X-WR-RELCALID:574afa8c7de0a81c46d98155dd54d530
X-WR-TIMEZONE:America/Los_Angeles
BEGIN:VTIMEZONE
TZID:America/Los_Angeles
BEGIN:STANDARD
TZNAME:PST
DTSTART:20241103T020000
TZOFFSETFROM:-0700
TZOFFSETTO:-0800
RDATE:20251102T020000
RDATE:20261101T020000
END:STANDARD
BEGIN:DAYLIGHT
TZNAME:PDT
DTSTART:20250309T020000
TZOFFSETFROM:-0800
TZOFFSETTO:-0700
RDATE:20260308T020000
RDATE:20270314T020000
END:DAYLIGHT
END:VTIMEZONE
BEGIN:VEVENT
UID:2ffd314d-da73-4038-845f-2a59990b1a53
DTSTAMP:20260421T085701Z
DESCRIPTION:
DTSTART;TZID=America/Los_Angeles:20251015T150000
DTEND;TZID=America/Los_Angeles:20251015T170000
LOCATION:180 11th Street\, San Francisco\, CA 94103 US
SUMMARY:FLM Cards in Friend's Hall
END:VEVENT
END:VCALENDAR
