BEGIN:VCALENDAR
VERSION:2.0
PRODID:-//www.thearcsf.org//NONSGML kigkonsult.se iCalcreator 2.30.10//
CALSCALE:GREGORIAN
METHOD:PUBLISH
UID:cbddd0ae-c1d2-4833-94dd-5a00766452c1
X-WR-CALDESC:
X-WR-RELCALID:a885893525aabdc3cceaf8b0e0b91500
X-WR-TIMEZONE:America/Los_Angeles
BEGIN:VTIMEZONE
TZID:America/Los_Angeles
BEGIN:STANDARD
TZNAME:PST
DTSTART:20241103T020000
TZOFFSETFROM:-0700
TZOFFSETTO:-0800
RDATE:20251102T020000
RDATE:20261101T020000
END:STANDARD
BEGIN:DAYLIGHT
TZNAME:PDT
DTSTART:20250309T020000
TZOFFSETFROM:-0800
TZOFFSETTO:-0700
RDATE:20260308T020000
RDATE:20270314T020000
END:DAYLIGHT
END:VTIMEZONE
BEGIN:VEVENT
UID:0476f649-f80c-4b7f-b7fd-e524ba3fd3da
DTSTAMP:20260421T084851Z
DESCRIPTION:
DTSTART;TZID=America/Los_Angeles:20251028T150000
DTEND;TZID=America/Los_Angeles:20251028T170000
LOCATION:https://us02web.zoom.us/j/81977668459#success
SUMMARY:FLM Online Game Afternoon
END:VEVENT
END:VCALENDAR
