BEGIN:VCALENDAR
VERSION:2.0
PRODID:-//www.thearcsf.org//NONSGML kigkonsult.se iCalcreator 2.30.10//
CALSCALE:GREGORIAN
METHOD:PUBLISH
UID:e5e12d6e-540e-4134-a210-ab97a34b2a63
X-WR-CALDESC:Click the link below to join the webinar:\nhttps://us02web.zoo
 m.us/j/88566783300
X-WR-RELCALID:e5dc931d78f549a657e32a2dcfef13ec
X-WR-TIMEZONE:America/Los_Angeles
BEGIN:VTIMEZONE
TZID:America/Los_Angeles
BEGIN:STANDARD
TZNAME:PST
DTSTART:20241103T020000
TZOFFSETFROM:-0700
TZOFFSETTO:-0800
RDATE:20251102T020000
RDATE:20261101T020000
END:STANDARD
BEGIN:DAYLIGHT
TZNAME:PDT
DTSTART:20250309T020000
TZOFFSETFROM:-0800
TZOFFSETTO:-0700
RDATE:20260308T020000
RDATE:20270314T020000
END:DAYLIGHT
END:VTIMEZONE
BEGIN:VEVENT
UID:0086e31d-e0ad-4b8e-9536-e985c13039ae
DTSTAMP:20260421T084956Z
DESCRIPTION:Click the link below to join the webinar:\nhttps://us02web.zoom
 .us/j/88566783300
DTSTART;TZID=America/Los_Angeles:20251028T173000
DTEND;TZID=America/Los_Angeles:20251028T193000
LOCATION:https://us02web.zoom.us/j/88566783300
SUMMARY:Board of Directors Meeting
END:VEVENT
END:VCALENDAR
