BEGIN:VCALENDAR
VERSION:2.0
PRODID:-//www.thearcsf.org//NONSGML kigkonsult.se iCalcreator 2.30.10//
CALSCALE:GREGORIAN
METHOD:PUBLISH
UID:eeccea29-6a64-4c13-9eea-9db65066538a
X-WR-CALDESC:Join us in Friend's Hall for cooking and dinner along with gam
 es and hang out time.\n
X-WR-RELCALID:d883d7434c0bdf3c566de064cd106266
X-WR-TIMEZONE:America/Los_Angeles
BEGIN:VTIMEZONE
TZID:America/Los_Angeles
BEGIN:STANDARD
TZNAME:PST
DTSTART:20241103T020000
TZOFFSETFROM:-0700
TZOFFSETTO:-0800
RDATE:20251102T020000
RDATE:20261101T020000
END:STANDARD
BEGIN:DAYLIGHT
TZNAME:PDT
DTSTART:20250309T020000
TZOFFSETFROM:-0800
TZOFFSETTO:-0700
RDATE:20260308T020000
RDATE:20270314T020000
END:DAYLIGHT
END:VTIMEZONE
BEGIN:VEVENT
UID:d72c31e8-7aa5-4939-9140-f186c904a455
DTSTAMP:20260421T101441Z
DESCRIPTION:Join us in Friend's Hall for cooking and dinner along with game
 s and hang out time.\n
DTSTART;TZID=America/Los_Angeles:20251103T170000
DTEND;TZID=America/Los_Angeles:20251103T200000
LOCATION:180 11th Street\, San Francisco\, CA 94103 US
SUMMARY:FLM Supper Club
END:VEVENT
END:VCALENDAR
