BEGIN:VCALENDAR
VERSION:2.0
PRODID:-//www.thearcsf.org//NONSGML kigkonsult.se iCalcreator 2.30.10//
CALSCALE:GREGORIAN
METHOD:PUBLISH
UID:943e4d86-495f-4eb6-b457-76b1ed0be0d1
X-WR-CALDESC:Click the link below to join the webinar:\nhttps://us02web.zoo
 m.us/j/87431448170
X-WR-RELCALID:9ce8a26116a75d6d5cc060dc92831c5c
X-WR-TIMEZONE:America/Los_Angeles
BEGIN:VTIMEZONE
TZID:America/Los_Angeles
BEGIN:STANDARD
TZNAME:PST
DTSTART:20251102T020000
TZOFFSETFROM:-0700
TZOFFSETTO:-0800
RDATE:20261101T020000
RDATE:20271107T020000
END:STANDARD
BEGIN:DAYLIGHT
TZNAME:PDT
DTSTART:20260308T020000
TZOFFSETFROM:-0800
TZOFFSETTO:-0700
RDATE:20270314T020000
END:DAYLIGHT
END:VTIMEZONE
BEGIN:VEVENT
UID:f7793fce-c9f7-4b29-bc37-c6c1149e036f
DTSTAMP:20260419T121829Z
DESCRIPTION:Click the link below to join the webinar:\nhttps://us02web.zoom
 .us/j/87431448170
DTSTART;TZID=America/Los_Angeles:20260616T173000
DTEND;TZID=America/Los_Angeles:20260616T193000
LOCATION:https://us02web.zoom.us/j/87431448170
SUMMARY:Board of Directors Meeting
END:VEVENT
END:VCALENDAR
