BEGIN:VCALENDAR
VERSION:2.0
PRODID:-//www.thearcsf.org//NONSGML kigkonsult.se iCalcreator 2.30.10//
CALSCALE:GREGORIAN
METHOD:PUBLISH
UID:dc3ac9c6-d7c5-478a-807d-821895c5372f
X-WR-CALDESC:Join us in Friend's Hall for cooking and dinner along with gam
 es and hang out time.\n
X-WR-RELCALID:f25e61cfbfd90ca4672e434094ffbe50
X-WR-TIMEZONE:America/Los_Angeles
BEGIN:VTIMEZONE
TZID:America/Los_Angeles
BEGIN:STANDARD
TZNAME:PST
DTSTART:20251102T020000
TZOFFSETFROM:-0700
TZOFFSETTO:-0800
RDATE:20261101T020000
RDATE:20271107T020000
END:STANDARD
BEGIN:DAYLIGHT
TZNAME:PDT
DTSTART:20260308T020000
TZOFFSETFROM:-0800
TZOFFSETTO:-0700
RDATE:20270314T020000
END:DAYLIGHT
END:VTIMEZONE
BEGIN:VEVENT
UID:0b413b3c-a192-488a-8158-228394dfc674
DTSTAMP:20260421T090837Z
DESCRIPTION:Join us in Friend's Hall for cooking and dinner along with game
 s and hang out time.\n
DTSTART;TZID=America/Los_Angeles:20260706T170000
DTEND;TZID=America/Los_Angeles:20260706T200000
LOCATION:180 11th Street\, San Francisco\, CA 94103 US
SUMMARY:FLM Supper Club
END:VEVENT
END:VCALENDAR
