BEGIN:VCALENDAR
VERSION:2.0
PRODID:-//www.thearcsf.org//NONSGML kigkonsult.se iCalcreator 2.30.10//
CALSCALE:GREGORIAN
METHOD:PUBLISH
UID:6621fa5b-cafa-4245-b159-28efd0602b9a
X-WR-CALDESC:
X-WR-RELCALID:7cd9e70cdf61440ce46d2b3bf95849a3
X-WR-TIMEZONE:America/Los_Angeles
BEGIN:VTIMEZONE
TZID:America/Los_Angeles
BEGIN:STANDARD
TZNAME:PST
DTSTART:20251102T020000
TZOFFSETFROM:-0700
TZOFFSETTO:-0800
RDATE:20261101T020000
RDATE:20271107T020000
END:STANDARD
BEGIN:DAYLIGHT
TZNAME:PDT
DTSTART:20260308T020000
TZOFFSETFROM:-0800
TZOFFSETTO:-0700
RDATE:20270314T020000
END:DAYLIGHT
END:VTIMEZONE
BEGIN:VEVENT
UID:afadf4b5-fb46-46cb-86ea-8b67d6bf632d
DTSTAMP:20260421T085537Z
DESCRIPTION:
DTSTART;TZID=America/Los_Angeles:20260715T150000
DTEND;TZID=America/Los_Angeles:20260715T170000
LOCATION:180 11th Street\, San Francisco\, CA 94103 US
SUMMARY:FLM Cards in Friend's Hall
END:VEVENT
END:VCALENDAR
