BEGIN:VCALENDAR
VERSION:2.0
PRODID:-//www.thearcsf.org//NONSGML kigkonsult.se iCalcreator 2.30.10//
CALSCALE:GREGORIAN
METHOD:PUBLISH
UID:65424a8d-2699-4e46-8034-15056044ab82
X-WR-CALDESC:Watch a movie and participate in Movie Discussion in Friend's 
 Hall\n
X-WR-RELCALID:bc4ff049184ac269c91598815d5dbbb0
X-WR-TIMEZONE:America/Los_Angeles
BEGIN:VTIMEZONE
TZID:America/Los_Angeles
BEGIN:STANDARD
TZNAME:PST
DTSTART:20251102T020000
TZOFFSETFROM:-0700
TZOFFSETTO:-0800
RDATE:20261101T020000
RDATE:20271107T020000
END:STANDARD
BEGIN:DAYLIGHT
TZNAME:PDT
DTSTART:20260308T020000
TZOFFSETFROM:-0800
TZOFFSETTO:-0700
RDATE:20270314T020000
END:DAYLIGHT
END:VTIMEZONE
BEGIN:VEVENT
UID:8718839f-1ced-4dc3-b146-a6f6322b78e6
DTSTAMP:20260421T090255Z
DESCRIPTION:Watch a movie and participate in Movie Discussion in Friend's H
 all\n
DTSTART;TZID=America/Los_Angeles:20260722T170000
DTEND;TZID=America/Los_Angeles:20260722T200000
LOCATION:180 11th Street\, San Francisco\, CA 94103 US
SUMMARY:FLM Movie Night
END:VEVENT
END:VCALENDAR
