BEGIN:VCALENDAR
VERSION:2.0
PRODID:-//www.thearcsf.org//NONSGML kigkonsult.se iCalcreator 2.30.10//
CALSCALE:GREGORIAN
METHOD:PUBLISH
UID:28f0bad1-40b7-4ed7-b413-b49ee0f728dd
X-WR-CALDESC:
X-WR-RELCALID:fc1e0fa17905189d9ef56dba278d2a5d
X-WR-TIMEZONE:America/Los_Angeles
BEGIN:VTIMEZONE
TZID:America/Los_Angeles
BEGIN:STANDARD
TZNAME:PST
DTSTART:20251102T020000
TZOFFSETFROM:-0700
TZOFFSETTO:-0800
RDATE:20261101T020000
RDATE:20271107T020000
END:STANDARD
BEGIN:DAYLIGHT
TZNAME:PDT
DTSTART:20260308T020000
TZOFFSETFROM:-0800
TZOFFSETTO:-0700
RDATE:20270314T020000
END:DAYLIGHT
END:VTIMEZONE
BEGIN:VEVENT
UID:0bc96ec0-10c0-434b-908c-7a97496821e1
DTSTAMP:20260421T101012Z
DESCRIPTION:
DTSTART;TZID=America/Los_Angeles:20260825T150000
DTEND;TZID=America/Los_Angeles:20260825T170000
LOCATION:https://us02web.zoom.us/j/81977668459#success
SUMMARY:FLM Online Game Afternoon
END:VEVENT
END:VCALENDAR
