BEGIN:VCALENDAR
VERSION:2.0
PRODID:-//www.thearcsf.org//NONSGML kigkonsult.se iCalcreator 2.30.10//
CALSCALE:GREGORIAN
METHOD:PUBLISH
UID:143dbcb3-1e46-4b73-88b4-3455466ccb67
X-WR-CALDESC:Join Us in Friend's Hall for Cards\, Games and other Activitie
 s.\n
X-WR-RELCALID:fdeeaca20636187678c89d477f3e5fb6
X-WR-TIMEZONE:America/Los_Angeles
BEGIN:VTIMEZONE
TZID:America/Los_Angeles
BEGIN:STANDARD
TZNAME:PST
DTSTART:20251102T020000
TZOFFSETFROM:-0700
TZOFFSETTO:-0800
RDATE:20261101T020000
RDATE:20271107T020000
END:STANDARD
BEGIN:DAYLIGHT
TZNAME:PDT
DTSTART:20260308T020000
TZOFFSETFROM:-0800
TZOFFSETTO:-0700
RDATE:20270314T020000
END:DAYLIGHT
END:VTIMEZONE
BEGIN:VEVENT
UID:ca075b95-b3d1-4c79-a450-0dddd2d618b2
DTSTAMP:20260423T113349Z
DESCRIPTION:Join Us in Friend's Hall for Cards\, Games and other Activities
 .\n
DTSTART;TZID=America/Los_Angeles:20260907T150000
DTEND;TZID=America/Los_Angeles:20260907T170000
LOCATION:180 11th Street\, B\, San Francisco\, CA 94103 US
SUMMARY:FLM Club
END:VEVENT
END:VCALENDAR
