BEGIN:VCALENDAR
VERSION:2.0
PRODID:-//www.thearcsf.org//NONSGML kigkonsult.se iCalcreator 2.30.10//
CALSCALE:GREGORIAN
METHOD:PUBLISH
UID:6c47ccc6-6f0f-4d31-bd2e-181f43de65a9
X-WR-CALDESC:Join Us in Friend's Hall for Cards\, Games and other Activitie
 s.\n
X-WR-RELCALID:d0a327fed54d6d07df26cb713b9e1dde
X-WR-TIMEZONE:America/Los_Angeles
BEGIN:VTIMEZONE
TZID:America/Los_Angeles
BEGIN:STANDARD
TZNAME:PST
DTSTART:20251102T020000
TZOFFSETFROM:-0700
TZOFFSETTO:-0800
RDATE:20261101T020000
RDATE:20271107T020000
END:STANDARD
BEGIN:DAYLIGHT
TZNAME:PDT
DTSTART:20260308T020000
TZOFFSETFROM:-0800
TZOFFSETTO:-0700
RDATE:20270314T020000
RDATE:20280312T020000
END:DAYLIGHT
END:VTIMEZONE
BEGIN:VEVENT
UID:d97f345f-0e63-46c8-aa3c-67130a15d65a
DTSTAMP:20260423T111733Z
DESCRIPTION:Join Us in Friend's Hall for Cards\, Games and other Activities
 .\n
DTSTART;TZID=America/Los_Angeles:20260914T150000
DTEND;TZID=America/Los_Angeles:20260914T170000
LOCATION:180 11th Street\, B\, San Francisco\, CA 94103 US
SUMMARY:FLM Club
END:VEVENT
END:VCALENDAR
