BEGIN:VCALENDAR
VERSION:2.0
PRODID:-//www.thearcsf.org//NONSGML kigkonsult.se iCalcreator 2.30.10//
CALSCALE:GREGORIAN
METHOD:PUBLISH
UID:34185335-dc82-434a-9017-8ceacdde6d11
X-WR-CALDESC:
X-WR-RELCALID:744c08775d667431b30ab4a4842c2b72
X-WR-TIMEZONE:America/Los_Angeles
BEGIN:VTIMEZONE
TZID:America/Los_Angeles
BEGIN:STANDARD
TZNAME:PST
DTSTART:20251102T020000
TZOFFSETFROM:-0700
TZOFFSETTO:-0800
RDATE:20261101T020000
RDATE:20271107T020000
END:STANDARD
BEGIN:DAYLIGHT
TZNAME:PDT
DTSTART:20260308T020000
TZOFFSETFROM:-0800
TZOFFSETTO:-0700
RDATE:20270314T020000
RDATE:20280312T020000
END:DAYLIGHT
END:VTIMEZONE
BEGIN:VEVENT
UID:53dd29dd-49fb-4b0a-9ff8-016de9784217
DTSTAMP:20260423T111915Z
DESCRIPTION:
DTSTART;TZID=America/Los_Angeles:20260922T150000
DTEND;TZID=America/Los_Angeles:20260922T170000
LOCATION:https://us02web.zoom.us/j/81977668459#success
SUMMARY:FLM Online Game Afternoon
END:VEVENT
END:VCALENDAR
