BEGIN:VCALENDAR
VERSION:2.0
PRODID:-//www.thearcsf.org//NONSGML kigkonsult.se iCalcreator 2.30.10//
CALSCALE:GREGORIAN
METHOD:PUBLISH
UID:552af274-ac0c-422e-a55b-770ca180c60e
X-WR-CALDESC:
X-WR-RELCALID:ea401956e2cd5a7c8280ec1020efb186
X-WR-TIMEZONE:America/Los_Angeles
BEGIN:VTIMEZONE
TZID:America/Los_Angeles
BEGIN:STANDARD
TZNAME:PST
DTSTART:20251102T020000
TZOFFSETFROM:-0700
TZOFFSETTO:-0800
RDATE:20261101T020000
RDATE:20271107T020000
END:STANDARD
BEGIN:DAYLIGHT
TZNAME:PDT
DTSTART:20260308T020000
TZOFFSETFROM:-0800
TZOFFSETTO:-0700
RDATE:20270314T020000
RDATE:20280312T020000
END:DAYLIGHT
END:VTIMEZONE
BEGIN:VEVENT
UID:5e342157-c04d-4abf-9dcb-0311e08ce239
DTSTAMP:20260423T111707Z
DESCRIPTION:
DTSTART;TZID=America/Los_Angeles:20260924T170000
DTEND;TZID=America/Los_Angeles:20260924T183000
LOCATION:https://us02web.zoom.us/j/82713623459#success
SUMMARY:FLM Remote Bingo
END:VEVENT
END:VCALENDAR
