BEGIN:VCALENDAR
VERSION:2.0
PRODID:-//www.thearcsf.org//NONSGML kigkonsult.se iCalcreator 2.30.10//
CALSCALE:GREGORIAN
METHOD:PUBLISH
UID:d8e6457d-d9c4-4071-9401-eb0fe2f517c8
X-WR-CALDESC:Join us in Friend's Hall for cooking and dinner along with gam
 es and hang out time.\n
X-WR-RELCALID:f221f6e062ede033c66caffcb3c503f0
X-WR-TIMEZONE:America/Los_Angeles
BEGIN:VTIMEZONE
TZID:America/Los_Angeles
BEGIN:STANDARD
TZNAME:PST
DTSTART:20251102T020000
TZOFFSETFROM:-0700
TZOFFSETTO:-0800
RDATE:20261101T020000
RDATE:20271107T020000
END:STANDARD
BEGIN:DAYLIGHT
TZNAME:PDT
DTSTART:20260308T020000
TZOFFSETFROM:-0800
TZOFFSETTO:-0700
RDATE:20270314T020000
RDATE:20280312T020000
END:DAYLIGHT
END:VTIMEZONE
BEGIN:VEVENT
UID:cb9eae1a-94a1-4896-8964-58700a526c29
DTSTAMP:20260423T124922Z
DESCRIPTION:Join us in Friend's Hall for cooking and dinner along with game
 s and hang out time.\n
DTSTART;TZID=America/Los_Angeles:20261019T170000
DTEND;TZID=America/Los_Angeles:20261019T200000
LOCATION:180 11th Street\, San Francisco\, CA 94103 US
SUMMARY:FLM Supper Club
END:VEVENT
END:VCALENDAR
