BEGIN:VCALENDAR
VERSION:2.0
PRODID:-//www.thearcsf.org//NONSGML kigkonsult.se iCalcreator 2.30.10//
CALSCALE:GREGORIAN
METHOD:PUBLISH
UID:bb6708a6-2210-4745-a0b4-1d9c32e6b774
X-WR-CALDESC:
X-WR-RELCALID:293f37a2d11e2da52b170cd72b521488
X-WR-TIMEZONE:America/Los_Angeles
BEGIN:VTIMEZONE
TZID:America/Los_Angeles
BEGIN:STANDARD
TZNAME:PST
DTSTART:20261101T020000
TZOFFSETFROM:-0700
TZOFFSETTO:-0800
RDATE:20271107T020000
END:STANDARD
BEGIN:DAYLIGHT
TZNAME:PDT
DTSTART:20260308T020000
TZOFFSETFROM:-0800
TZOFFSETTO:-0700
RDATE:20270314T020000
RDATE:20280312T020000
END:DAYLIGHT
END:VTIMEZONE
BEGIN:VEVENT
UID:2032c8b7-3b06-4172-a1c8-1965fa59a75a
DTSTAMP:20260423T141737Z
DESCRIPTION:
DTSTART;TZID=America/Los_Angeles:20261103T150000
DTEND;TZID=America/Los_Angeles:20261103T170000
LOCATION:https://us02web.zoom.us/j/81977668459#success
SUMMARY:FLM Online Game Afternoon
END:VEVENT
END:VCALENDAR
