BEGIN:VCALENDAR
VERSION:2.0
PRODID:-//www.thearcsf.org//NONSGML kigkonsult.se iCalcreator 2.30.10//
CALSCALE:GREGORIAN
METHOD:PUBLISH
UID:9a07a382-1866-4a29-be50-368d3d701ab8
X-WR-CALDESC:Join Us in Friend's Hall for Cards\, Games and other Activitie
 s.\n
X-WR-RELCALID:8f83c31ac410b9489acafad76360c4fe
X-WR-TIMEZONE:America/Los_Angeles
BEGIN:VTIMEZONE
TZID:America/Los_Angeles
BEGIN:STANDARD
TZNAME:PST
DTSTART:20261101T020000
TZOFFSETFROM:-0700
TZOFFSETTO:-0800
RDATE:20271107T020000
END:STANDARD
BEGIN:DAYLIGHT
TZNAME:PDT
DTSTART:20260308T020000
TZOFFSETFROM:-0800
TZOFFSETTO:-0700
RDATE:20270314T020000
RDATE:20280312T020000
END:DAYLIGHT
END:VTIMEZONE
BEGIN:VEVENT
UID:cd35f6b8-fd95-4aab-8281-4348c00c6d4e
DTSTAMP:20260423T141722Z
DESCRIPTION:Join Us in Friend's Hall for Cards\, Games and other Activities
 .\n
DTSTART;TZID=America/Los_Angeles:20261123T150000
DTEND;TZID=America/Los_Angeles:20261123T170000
LOCATION:180 11th Street\, B\, San Francisco\, CA 94103 US
SUMMARY:FLM Club
END:VEVENT
END:VCALENDAR
