BEGIN:VCALENDAR
VERSION:2.0
PRODID:-//www.thearcsf.org//NONSGML kigkonsult.se iCalcreator 2.30.10//
CALSCALE:GREGORIAN
METHOD:PUBLISH
UID:7b035826-8159-4c53-acad-5c95d16ede6a
X-WR-CALDESC:Join Us in Friend's Hall for Cards\, Games and other Activitie
 s.\n
X-WR-RELCALID:e070ab000810026a87145a23fc5b769e
X-WR-TIMEZONE:America/Los_Angeles
BEGIN:VTIMEZONE
TZID:America/Los_Angeles
BEGIN:STANDARD
TZNAME:PST
DTSTART:20261101T020000
TZOFFSETFROM:-0700
TZOFFSETTO:-0800
RDATE:20271107T020000
END:STANDARD
BEGIN:DAYLIGHT
TZNAME:PDT
DTSTART:20260308T020000
TZOFFSETFROM:-0800
TZOFFSETTO:-0700
RDATE:20270314T020000
RDATE:20280312T020000
END:DAYLIGHT
END:VTIMEZONE
BEGIN:VEVENT
UID:52e94139-a894-46e1-af44-4f8223d8c056
DTSTAMP:20260423T141830Z
DESCRIPTION:Join Us in Friend's Hall for Cards\, Games and other Activities
 .\n
DTSTART;TZID=America/Los_Angeles:20261130T150000
DTEND;TZID=America/Los_Angeles:20261130T170000
LOCATION:180 11th Street\, B\, San Francisco\, CA 94103 US
SUMMARY:FLM Club
END:VEVENT
END:VCALENDAR
