BEGIN:VCALENDAR
VERSION:2.0
PRODID:-//www.thearcsf.org//NONSGML kigkonsult.se iCalcreator 2.30.10//
CALSCALE:GREGORIAN
METHOD:PUBLISH
UID:ad36482f-0fe7-46e5-8993-d1cf4db9dc7a
X-WR-CALDESC:Join us in Friend's Hall for cooking and dinner along with gam
 es and hang out time.\n
X-WR-RELCALID:262a5e20f226a4a5ca73771387d92fd8
X-WR-TIMEZONE:America/Los_Angeles
BEGIN:VTIMEZONE
TZID:America/Los_Angeles
BEGIN:STANDARD
TZNAME:PST
DTSTART:20261101T020000
TZOFFSETFROM:-0700
TZOFFSETTO:-0800
RDATE:20271107T020000
END:STANDARD
BEGIN:DAYLIGHT
TZNAME:PDT
DTSTART:20260308T020000
TZOFFSETFROM:-0800
TZOFFSETTO:-0700
RDATE:20270314T020000
RDATE:20280312T020000
END:DAYLIGHT
END:VTIMEZONE
BEGIN:VEVENT
UID:a674cab8-513a-4e0d-a78c-d026aa449817
DTSTAMP:20260423T160647Z
DESCRIPTION:Join us in Friend's Hall for cooking and dinner along with game
 s and hang out time.\n
DTSTART;TZID=America/Los_Angeles:20261214T170000
DTEND;TZID=America/Los_Angeles:20261214T200000
LOCATION:180 11th Street\, San Francisco\, CA 94103 US
SUMMARY:FLM Supper Club
END:VEVENT
END:VCALENDAR
