BEGIN:VCALENDAR
VERSION:2.0
PRODID:-//www.thearcsf.org//NONSGML kigkonsult.se iCalcreator 2.30.10//
CALSCALE:GREGORIAN
METHOD:PUBLISH
UID:7efc0718-640f-4d9c-9253-df82d9c05123
X-WR-CALDESC:Join us in Friend's Hall for cooking and dinner along with gam
 es and hang out time.\n
X-WR-RELCALID:2b6e9653fd9d7fcda82dcf5ca405ed67
X-WR-TIMEZONE:America/Los_Angeles
BEGIN:VTIMEZONE
TZID:America/Los_Angeles
BEGIN:STANDARD
TZNAME:PST
DTSTART:20261101T020000
TZOFFSETFROM:-0700
TZOFFSETTO:-0800
RDATE:20271107T020000
END:STANDARD
BEGIN:DAYLIGHT
TZNAME:PDT
DTSTART:20260308T020000
TZOFFSETFROM:-0800
TZOFFSETTO:-0700
RDATE:20270314T020000
RDATE:20280312T020000
END:DAYLIGHT
END:VTIMEZONE
BEGIN:VEVENT
UID:55f77cfc-20e4-4072-8918-8c6095fd8759
DTSTAMP:20260423T160622Z
DESCRIPTION:Join us in Friend's Hall for cooking and dinner along with game
 s and hang out time.\n
DTSTART;TZID=America/Los_Angeles:20261221T170000
DTEND;TZID=America/Los_Angeles:20261221T200000
LOCATION:180 11th Street\, San Francisco\, CA 94103 US
SUMMARY:FLM Supper Club
END:VEVENT
END:VCALENDAR
