BEGIN:VCALENDAR
VERSION:2.0
PRODID:-//www.thearcsf.org//NONSGML kigkonsult.se iCalcreator 2.30.10//
CALSCALE:GREGORIAN
METHOD:PUBLISH
UID:5e2437b7-15ab-4b26-9547-bdc1076e7571
X-WR-CALDESC:Watch a movie and participate in Movie Discussion in Friend's 
 Hall\n
X-WR-RELCALID:a5d9cf923145312a9673ed85a92c3a8d
X-WR-TIMEZONE:America/Los_Angeles
BEGIN:VTIMEZONE
TZID:America/Los_Angeles
BEGIN:STANDARD
TZNAME:PST
DTSTART:20261101T020000
TZOFFSETFROM:-0700
TZOFFSETTO:-0800
RDATE:20271107T020000
END:STANDARD
BEGIN:DAYLIGHT
TZNAME:PDT
DTSTART:20270314T020000
TZOFFSETFROM:-0800
TZOFFSETTO:-0700
RDATE:20280312T020000
END:DAYLIGHT
END:VTIMEZONE
BEGIN:VEVENT
UID:aeb23094-26df-43b2-9ddf-dbab3d97bdfc
DTSTAMP:20260423T212452Z
DESCRIPTION:Watch a movie and participate in Movie Discussion in Friend's H
 all\n
DTSTART;TZID=America/Los_Angeles:20270406T170000
DTEND;TZID=America/Los_Angeles:20270406T200000
LOCATION:180 11th Street\, San Francisco\, CA 94103 US
SUMMARY:FLM Movie Night
END:VEVENT
END:VCALENDAR
