BEGIN:VCALENDAR
VERSION:2.0
PRODID:-//www.thearcsf.org//NONSGML kigkonsult.se iCalcreator 2.30.10//
CALSCALE:GREGORIAN
METHOD:PUBLISH
UID:73e44251-4cfa-4ba0-b164-564d4b1fa84f
X-WR-CALDESC:
X-WR-RELCALID:79a71bd6218f7ed95f7f32a2a2b31d3e
X-WR-TIMEZONE:America/Los_Angeles
BEGIN:VTIMEZONE
TZID:America/Los_Angeles
BEGIN:STANDARD
TZNAME:PST
DTSTART:20261101T020000
TZOFFSETFROM:-0700
TZOFFSETTO:-0800
RDATE:20271107T020000
RDATE:20281105T020000
END:STANDARD
BEGIN:DAYLIGHT
TZNAME:PDT
DTSTART:20270314T020000
TZOFFSETFROM:-0800
TZOFFSETTO:-0700
RDATE:20280312T020000
END:DAYLIGHT
END:VTIMEZONE
BEGIN:VEVENT
UID:d7c01f95-ce5a-46bf-8dc0-10254cd79243
DTSTAMP:20260424T025732Z
DESCRIPTION:
DTSTART;TZID=America/Los_Angeles:20270805T170000
DTEND;TZID=America/Los_Angeles:20270805T183000
LOCATION:https://us02web.zoom.us/j/82713623459#success
SUMMARY:FLM Remote Bingo
END:VEVENT
END:VCALENDAR
