BEGIN:VCALENDAR
VERSION:2.0
PRODID:-//www.thearcsf.org//NONSGML kigkonsult.se iCalcreator 2.30.10//
CALSCALE:GREGORIAN
METHOD:PUBLISH
UID:f4536c9e-47f3-44f7-b225-b3d680ac76ec
X-WR-CALDESC:
X-WR-RELCALID:f52a9bdbeea134273a5fb9ae45ca8677
X-WR-TIMEZONE:America/Los_Angeles
BEGIN:VTIMEZONE
TZID:America/Los_Angeles
BEGIN:STANDARD
TZNAME:PST
DTSTART:20271107T020000
TZOFFSETFROM:-0700
TZOFFSETTO:-0800
RDATE:20281105T020000
END:STANDARD
BEGIN:DAYLIGHT
TZNAME:PDT
DTSTART:20280312T020000
TZOFFSETFROM:-0800
TZOFFSETTO:-0700
RDATE:20290311T020000
END:DAYLIGHT
END:VTIMEZONE
BEGIN:VEVENT
UID:1cd86c8e-de28-4411-a739-969cd4f5bb18
DTSTAMP:20260424T151518Z
DESCRIPTION:
DTSTART;TZID=America/Los_Angeles:20280406T170000
DTEND;TZID=America/Los_Angeles:20280406T183000
LOCATION:https://us02web.zoom.us/j/82713623459#success
SUMMARY:FLM Remote Bingo
END:VEVENT
END:VCALENDAR
