BEGIN:VCALENDAR
VERSION:2.0
PRODID:-//www.thearcsf.org//NONSGML kigkonsult.se iCalcreator 2.30.10//
CALSCALE:GREGORIAN
METHOD:PUBLISH
UID:00d6a053-7f12-46fd-838a-d2c3d97d7b6c
X-WR-CALDESC:
X-WR-RELCALID:100baaea0b01150f6bee3e63554d2fcd
X-WR-TIMEZONE:America/Los_Angeles
BEGIN:VTIMEZONE
TZID:America/Los_Angeles
BEGIN:STANDARD
TZNAME:PST
DTSTART:20271107T020000
TZOFFSETFROM:-0700
TZOFFSETTO:-0800
RDATE:20281105T020000
RDATE:20291104T020000
END:STANDARD
BEGIN:DAYLIGHT
TZNAME:PDT
DTSTART:20280312T020000
TZOFFSETFROM:-0800
TZOFFSETTO:-0700
RDATE:20290311T020000
END:DAYLIGHT
END:VTIMEZONE
BEGIN:VEVENT
UID:bf006f7a-443f-4086-a60b-896d9cc0c1de
DTSTAMP:20260424T193625Z
DESCRIPTION:
DTSTART;TZID=America/Los_Angeles:20280705T150000
DTEND;TZID=America/Los_Angeles:20280705T170000
LOCATION:180 11th Street\, San Francisco\, CA 94103 US
SUMMARY:FLM Cards in Friend's Hall
END:VEVENT
END:VCALENDAR
