BEGIN:VCALENDAR
VERSION:2.0
PRODID:-//www.thearcsf.org//NONSGML kigkonsult.se iCalcreator 2.30.10//
CALSCALE:GREGORIAN
METHOD:PUBLISH
UID:67f4cd72-ecca-4626-8174-aea8f7757c58
X-WR-CALDESC:Watch a movie and participate in Movie Discussion in Friend's 
 Hall\n
X-WR-RELCALID:599b437f434e1de761c3a235b12345cb
X-WR-TIMEZONE:America/Los_Angeles
BEGIN:VTIMEZONE
TZID:America/Los_Angeles
BEGIN:STANDARD
TZNAME:PST
DTSTART:20271107T020000
TZOFFSETFROM:-0700
TZOFFSETTO:-0800
RDATE:20281105T020000
RDATE:20291104T020000
END:STANDARD
BEGIN:DAYLIGHT
TZNAME:PDT
DTSTART:20280312T020000
TZOFFSETFROM:-0800
TZOFFSETTO:-0700
RDATE:20290311T020000
END:DAYLIGHT
END:VTIMEZONE
BEGIN:VEVENT
UID:e7a0af01-c266-4a87-82e9-087aa74d313d
DTSTAMP:20260424T221959Z
DESCRIPTION:Watch a movie and participate in Movie Discussion in Friend's H
 all\n
DTSTART;TZID=America/Los_Angeles:20280903T170000
DTEND;TZID=America/Los_Angeles:20280903T200000
LOCATION:180 11th Street\, San Francisco\, CA 94103 US
SUMMARY:FLM Movie Night
END:VEVENT
END:VCALENDAR
