BEGIN:VCALENDAR
VERSION:2.0
PRODID:-//www.thearcsf.org//NONSGML kigkonsult.se iCalcreator 2.30.10//
CALSCALE:GREGORIAN
METHOD:PUBLISH
UID:d652acc0-30fb-4809-be8f-64b49cb69b4b
X-WR-CALDESC:
X-WR-RELCALID:3fe1bccdf7f9353074790d8dc742a087
X-WR-TIMEZONE:America/Los_Angeles
BEGIN:VTIMEZONE
TZID:America/Los_Angeles
BEGIN:STANDARD
TZNAME:PST
DTSTART:20271107T020000
TZOFFSETFROM:-0700
TZOFFSETTO:-0800
RDATE:20281105T020000
RDATE:20291104T020000
END:STANDARD
BEGIN:DAYLIGHT
TZNAME:PDT
DTSTART:20280312T020000
TZOFFSETFROM:-0800
TZOFFSETTO:-0700
RDATE:20290311T020000
RDATE:20300310T020000
END:DAYLIGHT
END:VTIMEZONE
BEGIN:VEVENT
UID:280ea135-2564-4cfa-a8cc-13dc58d8a40a
DTSTAMP:20260424T221342Z
DESCRIPTION:
DTSTART;TZID=America/Los_Angeles:20280920T150000
DTEND;TZID=America/Los_Angeles:20280920T170000
LOCATION:180 11th Street\, San Francisco\, CA 94103 US
SUMMARY:FLM Cards in Friend's Hall
END:VEVENT
END:VCALENDAR
