BEGIN:VCALENDAR
VERSION:2.0
PRODID:-//www.thearcsf.org//NONSGML kigkonsult.se iCalcreator 2.30.10//
CALSCALE:GREGORIAN
METHOD:PUBLISH
UID:359efb25-400a-4673-8eba-be72afc6d0d3
X-WR-CALDESC:Watch a movie and participate in Movie Discussion in Friend's 
 Hall\n
X-WR-RELCALID:c5c829e7be33ef3f03b36329e049eb3d
X-WR-TIMEZONE:America/Los_Angeles
BEGIN:VTIMEZONE
TZID:America/Los_Angeles
BEGIN:STANDARD
TZNAME:PST
DTSTART:20281105T020000
TZOFFSETFROM:-0700
TZOFFSETTO:-0800
RDATE:20291104T020000
RDATE:20301103T020000
END:STANDARD
BEGIN:DAYLIGHT
TZNAME:PDT
DTSTART:20290311T020000
TZOFFSETFROM:-0800
TZOFFSETTO:-0700
RDATE:20300310T020000
END:DAYLIGHT
END:VTIMEZONE
BEGIN:VEVENT
UID:b09df390-5815-4bda-9a97-a65de93a43fa
DTSTAMP:20260425T105748Z
DESCRIPTION:Watch a movie and participate in Movie Discussion in Friend's H
 all\n
DTSTART;TZID=America/Los_Angeles:20290612T170000
DTEND;TZID=America/Los_Angeles:20290612T200000
LOCATION:180 11th Street\, San Francisco\, CA 94103 US
SUMMARY:FLM Movie Night
END:VEVENT
END:VCALENDAR
