BEGIN:VCALENDAR
VERSION:2.0
PRODID:-//www.thearcsf.org//NONSGML kigkonsult.se iCalcreator 2.30.10//
CALSCALE:GREGORIAN
METHOD:PUBLISH
UID:232419d9-8050-401f-9f21-d6043d4565f4
X-WR-CALDESC:
X-WR-RELCALID:81b1db5a6c0494fe47abba1ec9d9f8dd
X-WR-TIMEZONE:America/Los_Angeles
BEGIN:VTIMEZONE
TZID:America/Los_Angeles
BEGIN:STANDARD
TZNAME:PST
DTSTART:20281105T020000
TZOFFSETFROM:-0700
TZOFFSETTO:-0800
RDATE:20291104T020000
RDATE:20301103T020000
END:STANDARD
BEGIN:DAYLIGHT
TZNAME:PDT
DTSTART:20290311T020000
TZOFFSETFROM:-0800
TZOFFSETTO:-0700
RDATE:20300310T020000
END:DAYLIGHT
END:VTIMEZONE
BEGIN:VEVENT
UID:4c1c6f43-8c0e-40c4-af4b-519181f7695e
DTSTAMP:20260425T110228Z
DESCRIPTION:
DTSTART;TZID=America/Los_Angeles:20290613T150000
DTEND;TZID=America/Los_Angeles:20290613T170000
LOCATION:180 11th Street\, San Francisco\, CA 94103 US
SUMMARY:FLM Cards in Friend's Hall
END:VEVENT
END:VCALENDAR
