BEGIN:VCALENDAR
VERSION:2.0
PRODID:-//www.thearcsf.org//NONSGML kigkonsult.se iCalcreator 2.30.10//
CALSCALE:GREGORIAN
METHOD:PUBLISH
UID:3d053a4e-f2fa-456a-9410-883066d678a9
X-WR-CALDESC:Watch a movie and participate in Movie Discussion in Friend's 
 Hall\n
X-WR-RELCALID:5cea26151b72d7e1bce8dba1e3bf02ae
X-WR-TIMEZONE:America/Los_Angeles
BEGIN:VTIMEZONE
TZID:America/Los_Angeles
BEGIN:STANDARD
TZNAME:PST
DTSTART:20281105T020000
TZOFFSETFROM:-0700
TZOFFSETTO:-0800
RDATE:20291104T020000
RDATE:20301103T020000
END:STANDARD
BEGIN:DAYLIGHT
TZNAME:PDT
DTSTART:20290311T020000
TZOFFSETFROM:-0800
TZOFFSETTO:-0700
RDATE:20300310T020000
END:DAYLIGHT
END:VTIMEZONE
BEGIN:VEVENT
UID:436ab2f9-f7a7-4148-bfe2-6a1c1235eddc
DTSTAMP:20260425T140047Z
DESCRIPTION:Watch a movie and participate in Movie Discussion in Friend's H
 all\n
DTSTART;TZID=America/Los_Angeles:20290805T170000
DTEND;TZID=America/Los_Angeles:20290805T200000
LOCATION:180 11th Street\, San Francisco\, CA 94103 US
SUMMARY:FLM Movie Night
END:VEVENT
END:VCALENDAR
