BEGIN:VCALENDAR
VERSION:2.0
PRODID:-//www.thearcsf.org//NONSGML kigkonsult.se iCalcreator 2.30.10//
CALSCALE:GREGORIAN
METHOD:PUBLISH
UID:ef7764f3-6161-4062-8cf7-1e3ae63d522c
X-WR-CALDESC:
X-WR-RELCALID:e3aba31fd5ed8b463f80eeb791c66bdf
X-WR-TIMEZONE:America/Los_Angeles
BEGIN:VTIMEZONE
TZID:America/Los_Angeles
BEGIN:STANDARD
TZNAME:PST
DTSTART:20281105T020000
TZOFFSETFROM:-0700
TZOFFSETTO:-0800
RDATE:20291104T020000
RDATE:20301103T020000
END:STANDARD
BEGIN:DAYLIGHT
TZNAME:PDT
DTSTART:20290311T020000
TZOFFSETFROM:-0800
TZOFFSETTO:-0700
RDATE:20300310T020000
END:DAYLIGHT
END:VTIMEZONE
BEGIN:VEVENT
UID:e5684530-409b-4074-b030-358b2325cfb1
DTSTAMP:20260425T135858Z
DESCRIPTION:
DTSTART;TZID=America/Los_Angeles:20290809T170000
DTEND;TZID=America/Los_Angeles:20290809T183000
LOCATION:https://us02web.zoom.us/j/82713623459#success
SUMMARY:FLM Remote Bingo
END:VEVENT
END:VCALENDAR
